BEGIN:VCALENDAR
VERSION:2.0
PRODID:spatie/icalendar-generator
DESCRIPTION:Events from Ultimate Light Mission
X-WR-CALDESC:Events from Ultimate Light Mission
REFRESH-INTERVAL;VALUE=DURATION:PT1440M
X-PUBLISHED-TTL:PT1440M
BEGIN:VTIMEZONE
TZID:America/Phoenix
BEGIN:STANDARD
DTSTART:20250705T160000Z
TZOFFSETFROM:-0700
TZOFFSETTO:-0700
END:STANDARD
END:VTIMEZONE
BEGIN:VTIMEZONE
TZID:UTC
BEGIN:STANDARD
DTSTART:20250727T135427Z
TZOFFSETFROM:+0000
TZOFFSETTO:+0000
END:STANDARD
END:VTIMEZONE
BEGIN:VEVENT
UID:3050-490
DTSTAMP:20260423T135427Z
SUMMARY:Group Laughter
LOCATION:
ORGANIZER;CN=anna:MAILTO:ab@annabronstein.com
RRULE:FREQ=WEEKLY;UNTIL=20260430T000000Z
DTSTART;TZID=America/Phoenix:20260401T160000
DTEND;TZID=America/Phoenix:20260401T180000
X-ALT-DESC;FMTTYPE=TEXT/HTML:
CATEGORIES:Community Event,  Featured,  Weekly
URL;VALUE=URI:https://ultimatelightmission.com/mc-events/group-laughter-2/?
 mc_id=3050
METHOD:PUBLISH
END:VEVENT
BEGIN:VEVENT
UID:3046-489
DTSTAMP:20260423T135427Z
SUMMARY:Sonic GalActivation
LOCATION:
ORGANIZER;CN=anna:MAILTO:ab@annabronstein.com
DTSTART;TZID=America/Phoenix:20260404T183000
DTEND;TZID=America/Phoenix:20260404T210000
X-ALT-DESC;FMTTYPE=TEXT/HTML:
CATEGORIES:Music/Dance,  Featured
URL;VALUE=URI:https://ultimatelightmission.com/mc-events/sonic-galactivatio
 n-2/
METHOD:PUBLISH
END:VEVENT
BEGIN:VEVENT
UID:2981-401
DTSTAMP:20260423T135427Z
SUMMARY:Conscious Conversations - Community Support and Sharing
LOCATION:
ORGANIZER;CN=anna:MAILTO:ab@annabronstein.com
RRULE:FREQ=WEEKLY;UNTIL=20270101T000000Z
DTSTART;TZID=America/Phoenix:20260407T180000
DTEND;TZID=America/Phoenix:20260407T200000
X-ALT-DESC;FMTTYPE=TEXT/HTML:For details\, please visit ultimatelightmissi
 on.com/friend
CATEGORIES:Ultimate Light Mission,  Community Event,  Featured,  Weekly
URL;VALUE=URI:https://ultimatelightmission.com/mc-events/conscious-conversa
 tions-community-support-and-sharing/?mc_id=2981
METHOD:PUBLISH
END:VEVENT
BEGIN:VEVENT
UID:3059-496
DTSTAMP:20260423T135427Z
SUMMARY:Community Healing Clinic of Sedona
LOCATION:
ORGANIZER;CN=anna:MAILTO:ab@annabronstein.com
DTSTART;TZID=America/Phoenix:20260410T160000
DTEND;TZID=America/Phoenix:20260410T190000
X-ALT-DESC;FMTTYPE=TEXT/HTML:A new chapter of affordable\, community-center
 ed healing one community at a time. Spaces limited\; Call to Schedule NOW!
  Please arrive 5-10 minutes early for your appointment.
CATEGORIES:Community Event,  Featured,  Monthly
URL;VALUE=URI:https://ultimatelightmission.com/mc-events/community-healing-
 clinic-of-sedona-4/
METHOD:PUBLISH
END:VEVENT
BEGIN:VEVENT
UID:3042-485
DTSTAMP:20260423T135427Z
SUMMARY:Intuition PlayShop
LOCATION:
ORGANIZER;CN=anna:MAILTO:ab@annabronstein.com
DTSTART;TZID=America/Phoenix:20260411T140000
DTEND;TZID=America/Phoenix:20260411T170000
X-ALT-DESC;FMTTYPE=TEXT/HTML:with Marguerite Deselms of Oracleowlastrology.
 com $10 Suggested Donation &amp;nbsp\;
CATEGORIES:Workshop,  Featured
URL;VALUE=URI:https://ultimatelightmission.com/mc-events/intuition-playshop
 -2/
METHOD:PUBLISH
END:VEVENT
BEGIN:VEVENT
UID:3056-493
DTSTAMP:20260423T135427Z
SUMMARY:Garden Patch - What's Next? with Shams Teh
LOCATION:
ORGANIZER;CN=anna:MAILTO:ab@annabronstein.com
DTSTART;TZID=America/Phoenix:20260412T170000
DTEND;TZID=America/Phoenix:20260412T200000
X-ALT-DESC;FMTTYPE=TEXT/HTML:
CATEGORIES:Ultimate Light Mission,  Featured,  Monthly
URL;VALUE=URI:https://ultimatelightmission.com/mc-events/garden-patch-whats
 -next-with-shams-teh/
METHOD:PUBLISH
END:VEVENT
BEGIN:VEVENT
UID:3055-492
DTSTAMP:20260423T135427Z
SUMMARY:New Earth Ceremony with Deva Sophia Grace
LOCATION:
ORGANIZER;CN=anna:MAILTO:ab@annabronstein.com
DTSTART;TZID=America/Phoenix:20260416T190000
DTEND;TZID=America/Phoenix:20260416T200000
X-ALT-DESC;FMTTYPE=TEXT/HTML:Blessings Beloveds\, I decided to do something
  different this month: instead of having a guest host\, I'm inviting the c
 ommunity to share... in addition\, we will aim our prayers and ceremony to
  World Peace
CATEGORIES:Community Event,  Featured,  Monthly
URL;VALUE=URI:https://ultimatelightmission.com/mc-events/new-earth-ceremony
 -with-deva-sophia-grace-2/
METHOD:PUBLISH
END:VEVENT
BEGIN:VEVENT
UID:3048-491
DTSTAMP:20260423T135427Z
SUMMARY:Alternative Community &amp;amp\; Gifting Circle
LOCATION:
ORGANIZER;CN=anna:MAILTO:ab@annabronstein.com
DTSTART;TZID=America/Phoenix:20260419T140000
DTEND;TZID=America/Phoenix:20260419T160000
X-ALT-DESC;FMTTYPE=TEXT/HTML:A sacred space of reciprocal offering\, mutual
  support and resonant sharing Give what you have\; Offer what you can\; Re
 ceive what you need
CATEGORIES:Community Event,  Featured,  Monthly
URL;VALUE=URI:https://ultimatelightmission.com/mc-events/gifting-circle-alt
 ernative-community-3/
METHOD:PUBLISH
END:VEVENT
BEGIN:VEVENT
UID:3057-494
DTSTAMP:20260423T135427Z
SUMMARY:All Paths Converge
LOCATION:
ORGANIZER;CN=anna:MAILTO:ab@annabronstein.com
DTSTART;TZID=America/Phoenix:20260419T160000
DTEND;TZID=America/Phoenix:20260419T180000
X-ALT-DESC;FMTTYPE=TEXT/HTML:
CATEGORIES:Community Event,  Featured
URL;VALUE=URI:https://ultimatelightmission.com/mc-events/all-paths-converge
 /
METHOD:PUBLISH
END:VEVENT
BEGIN:VEVENT
UID:3058-495
DTSTAMP:20260423T135427Z
SUMMARY:All Paths Converge
LOCATION:
ORGANIZER;CN=anna:MAILTO:ab@annabronstein.com
DTSTART;TZID=America/Phoenix:20260420T070000
DTEND;TZID=America/Phoenix:20260420T090000
X-ALT-DESC;FMTTYPE=TEXT/HTML:
CATEGORIES:Community Event,  Featured
URL;VALUE=URI:https://ultimatelightmission.com/mc-events/all-paths-converge
 -2/
METHOD:PUBLISH
END:VEVENT
BEGIN:VEVENT
UID:3063-500
DTSTAMP:20260423T135427Z
SUMMARY:Voice-Dance-Jambath
LOCATION:
ORGANIZER;CN=anna:MAILTO:ab@annabronstein.com
DTSTART;TZID=America/Phoenix:20260420T190000
DTEND;TZID=America/Phoenix:20260420T210000
X-ALT-DESC;FMTTYPE=TEXT/HTML:
CATEGORIES:Music/Dance,  Featured
URL;VALUE=URI:https://ultimatelightmission.com/mc-events/voice-dance-jambat
 h/
METHOD:PUBLISH
END:VEVENT
BEGIN:VEVENT
UID:3062-499
DTSTAMP:20260423T135427Z
SUMMARY:The Bigger Mind - Satsang with Joe Vertino
LOCATION:
ORGANIZER;CN=anna:MAILTO:ab@annabronstein.com
DTSTART;TZID=America/Phoenix:20260421T194500
DTEND;TZID=America/Phoenix:20260421T220000
X-ALT-DESC;FMTTYPE=TEXT/HTML:
CATEGORIES:Featured,  Music/Dance
URL;VALUE=URI:https://ultimatelightmission.com/mc-events/the-bigger-mind-sa
 tsang-with-joe-vertino/
METHOD:PUBLISH
END:VEVENT
BEGIN:VEVENT
UID:3060-497
DTSTAMP:20260423T135427Z
SUMMARY:Blue Zone Secret—OLIABO Olive Oil Tasting
LOCATION:
ORGANIZER;CN=anna:MAILTO:ab@annabronstein.com
DTSTART;TZID=America/Phoenix:20260428T190000
DTEND;TZID=America/Phoenix:20260428T210000
X-ALT-DESC;FMTTYPE=TEXT/HTML:This is about truth\, health\, and integrity i
 n a world where most olive oil is sadly diluted\, mislabeled\, or compromi
 sed. There is a big problem with the scandalous world of Olive Oil and now
  there is a solution. During our time together\, you’ll discover: Why mo
 st olive oil on the market is tainted — and&amp;hellip\;
CATEGORIES:Community Event,  Featured
URL;VALUE=URI:https://ultimatelightmission.com/mc-events/blue-zone-secret/
METHOD:PUBLISH
END:VEVENT
END:VCALENDAR